BEGIN:VCALENDAR
VERSION:2.0
PRODID:-//hacksw/handcal//NONSGML v1.0//EN
CALSCALE:GREGORIAN
BEGIN:VEVENT
DTSTART:20260425T020000Z
DTEND:20260425T030000Z
UID:135320-opensimworld.com
DTSTAMP:20260425T032745Z
LOCATION:grid.wolfterritories.org:8002:The Cedars
URL;VALUE=URI: http://opensimworld.com/event/135320
SUMMARY:DJ Macfry at the Cedars Club
END:VEVENT
END:VCALENDAR