BEGIN:VCALENDAR
VERSION:2.0
PRODID:-//hacksw/handcal//NONSGML v1.0//EN
CALSCALE:GREGORIAN
BEGIN:VEVENT
DTSTART:20260424T230000Z
DTEND:20260425T000000Z
UID:135319-opensimworld.com
DTSTAMP:20260425T034846Z
LOCATION:bridgemere.outworldz.net:8002:Paradise Lagoon
URL;VALUE=URI: http://opensimworld.com/event/135319
SUMMARY:DJ Rockn RobertC
END:VEVENT
END:VCALENDAR