BEGIN:VCALENDAR
VERSION:2.0
PRODID:-//hacksw/handcal//NONSGML v1.0//EN
CALSCALE:GREGORIAN
BEGIN:VEVENT
DTSTART:20260427T193000Z
DTEND:20260427T203000Z
UID:135317-opensimworld.com
DTSTAMP:20260426T020957Z
LOCATION:newlifeitaly.com:8002:PalmBeach
URL;VALUE=URI: http://opensimworld.com/event/135317
SUMMARY:DISCO MUSIC 80s and 90s By Dj Angel Dark
END:VEVENT
END:VCALENDAR