BEGIN:VCALENDAR
VERSION:2.0
PRODID:-//hacksw/handcal//NONSGML v1.0//EN
CALSCALE:GREGORIAN
BEGIN:VEVENT
DTSTART:20260424T180000Z
DTEND:20260424T190000Z
UID:135315-opensimworld.com
DTSTAMP:20260424T205038Z
LOCATION:gentlefire.opensim.fun:8002:Radio DJ Club
URL;VALUE=URI: http://opensimworld.com/event/135315
SUMMARY:Disco Classics at 11am to 1pm grid time hope to see u all soon and have fun
END:VEVENT
END:VCALENDAR