BEGIN:VCALENDAR
VERSION:2.0
PRODID:-//hacksw/handcal//NONSGML v1.0//EN
CALSCALE:GREGORIAN
BEGIN:VEVENT
DTSTART:20260424T230000Z
DTEND:20260425T000000Z
UID:135310-opensimworld.com
DTSTAMP:20260425T034846Z
LOCATION:login.digiworldz.com:8002:Manderley
URL;VALUE=URI: http://opensimworld.com/event/135310
SUMMARY:Friday night at Rooftops!
END:VEVENT
END:VCALENDAR