BEGIN:VCALENDAR
VERSION:2.0
PRODID:-//hacksw/handcal//NONSGML v1.0//EN
CALSCALE:GREGORIAN
BEGIN:VEVENT
DTSTART:20260424T190000Z
DTEND:20260424T200000Z
UID:135309-opensimworld.com
DTSTAMP:20260425T040017Z
LOCATION:alternatemetaverse.com:8002:Daur Anarie
URL;VALUE=URI: http://opensimworld.com/event/135309
SUMMARY:Elf Dream storytelling
END:VEVENT
END:VCALENDAR