BEGIN:VCALENDAR
VERSION:2.0
PRODID:-//hacksw/handcal//NONSGML v1.0//EN
CALSCALE:GREGORIAN
BEGIN:VEVENT
DTSTART:20260424T210000Z
DTEND:20260424T220000Z
UID:135307-opensimworld.com
DTSTAMP:20260425T025526Z
LOCATION:junglefriends.opensim.fun:8002:Event Jungle
URL;VALUE=URI: http://opensimworld.com/event/135307
SUMMARY:DJ GIAKU
END:VEVENT
END:VCALENDAR