BEGIN:VCALENDAR
VERSION:2.0
PRODID:-//hacksw/handcal//NONSGML v1.0//EN
CALSCALE:GREGORIAN
BEGIN:VEVENT
DTSTART:20260423T190000Z
DTEND:20260423T200000Z
UID:135302-opensimworld.com
DTSTAMP:20260424T013445Z
LOCATION:hg.osgrid.org:80:Club Exile
URL;VALUE=URI: http://opensimworld.com/event/135302
SUMMARY:elvis  night at  club exile   start  20.00  cet    noonslt  
END:VEVENT
END:VCALENDAR