BEGIN:VCALENDAR
VERSION:2.0
PRODID:-//hacksw/handcal//NONSGML v1.0//EN
CALSCALE:GREGORIAN
BEGIN:VEVENT
DTSTART:20260423T170000Z
DTEND:20260423T180000Z
UID:135300-opensimworld.com
DTSTAMP:20260424T001940Z
LOCATION:alternatemetaverse.com:8002:Empire Of Art
URL;VALUE=URI: http://opensimworld.com/event/135300
SUMMARY:[ SHOWCASE ] ✨ Creator Rotation: Mel, The Angel of Sound
END:VEVENT
END:VCALENDAR