BEGIN:VCALENDAR
VERSION:2.0
PRODID:-//hacksw/handcal//NONSGML v1.0//EN
CALSCALE:GREGORIAN
BEGIN:VEVENT
DTSTART:20260425T180000Z
DTEND:20260425T190000Z
UID:135297-opensimworld.com
DTSTAMP:20260425T192540Z
LOCATION:login.friends-grid.com:8002:Coral Cove
URL;VALUE=URI: http://opensimworld.com/event/135297
SUMMARY:Michael Jackon tribute event
END:VEVENT
END:VCALENDAR