BEGIN:VCALENDAR
VERSION:2.0
PRODID:-//hacksw/handcal//NONSGML v1.0//EN
CALSCALE:GREGORIAN
BEGIN:VEVENT
DTSTART:20260423T180000Z
DTEND:20260423T190000Z
UID:135296-opensimworld.com
DTSTAMP:20260423T114557Z
LOCATION:hg.osgrid.org:80:Club Exile
URL;VALUE=URI: http://opensimworld.com/event/135296
SUMMARY:kenny  presents  5hours  elvid  tribute  start  11  am slt   20,00 cet  
END:VEVENT
END:VCALENDAR