BEGIN:VCALENDAR
VERSION:2.0
PRODID:-//hacksw/handcal//NONSGML v1.0//EN
CALSCALE:GREGORIAN
BEGIN:VEVENT
DTSTART:20260425T220000Z
DTEND:20260425T230000Z
UID:135294-opensimworld.com
DTSTAMP:20260426T033838Z
LOCATION:grid.wolfterritories.org:8002:THE FLEABAGS DEN
URL;VALUE=URI: http://opensimworld.com/event/135294
SUMMARY:90\'s With Dj Spirit
END:VEVENT
END:VCALENDAR