BEGIN:VCALENDAR
VERSION:2.0
PRODID:-//hacksw/handcal//NONSGML v1.0//EN
CALSCALE:GREGORIAN
BEGIN:VEVENT
DTSTART:20260422T140000Z
DTEND:20260422T150000Z
UID:135291-opensimworld.com
DTSTAMP:20260423T041142Z
LOCATION:login.kamilianradio.com:8002:The Meepz
URL;VALUE=URI: http://opensimworld.com/event/135291
SUMMARY:The Kamilian Radio Morning Show
END:VEVENT
END:VCALENDAR