BEGIN:VCALENDAR
VERSION:2.0
PRODID:-//hacksw/handcal//NONSGML v1.0//EN
CALSCALE:GREGORIAN
BEGIN:VEVENT
DTSTART:20260424T200000Z
DTEND:20260424T210000Z
UID:135290-opensimworld.com
DTSTAMP:20260423T053554Z
LOCATION:login.friends-grid.com:8002:Friends
URL;VALUE=URI: http://opensimworld.com/event/135290
SUMMARY:Beach Party  with DJ Ely
END:VEVENT
END:VCALENDAR