BEGIN:VCALENDAR
VERSION:2.0
PRODID:-//hacksw/handcal//NONSGML v1.0//EN
CALSCALE:GREGORIAN
BEGIN:VEVENT
DTSTART:20260503T180000Z
DTEND:20260503T190000Z
UID:135286-opensimworld.com
DTSTAMP:20260424T193446Z
LOCATION:pangeagrid.de:8002:PangeaVille
URL;VALUE=URI: http://opensimworld.com/event/135286
SUMMARY:3 HOURS OF THE FINEST ELECTRONIC MUSIC
END:VEVENT
END:VCALENDAR