BEGIN:VCALENDAR
VERSION:2.0
PRODID:-//hacksw/handcal//NONSGML v1.0//EN
CALSCALE:GREGORIAN
BEGIN:VEVENT
DTSTART:20260425T200000Z
DTEND:20260425T210000Z
UID:135271-opensimworld.com
DTSTAMP:20260423T041142Z
LOCATION:hg.osgrid.org:80:Event Plaza
URL;VALUE=URI: http://opensimworld.com/event/135271
SUMMARY:Saturday Event Plaza Osgrid
END:VEVENT
END:VCALENDAR