BEGIN:VCALENDAR
VERSION:2.0
PRODID:-//hacksw/handcal//NONSGML v1.0//EN
CALSCALE:GREGORIAN
BEGIN:VEVENT
DTSTART:20260425T040000Z
DTEND:20260425T050000Z
UID:135264-opensimworld.com
DTSTAMP:20260423T020431Z
LOCATION:hg.osgrid.org:80:Event Plaza
URL;VALUE=URI: http://opensimworld.com/event/135264
SUMMARY:Friday Event Plaza Osgrid
END:VEVENT
END:VCALENDAR