BEGIN:VCALENDAR
VERSION:2.0
PRODID:-//hacksw/handcal//NONSGML v1.0//EN
CALSCALE:GREGORIAN
BEGIN:VEVENT
DTSTART:20260424T220000Z
DTEND:20260424T230000Z
UID:135258-opensimworld.com
DTSTAMP:20260422T191257Z
LOCATION:hg.osgrid.org:80:Event Plaza
URL;VALUE=URI: http://opensimworld.com/event/135258
SUMMARY:Friday Event Plaza Osgrid
END:VEVENT
END:VCALENDAR