BEGIN:VCALENDAR
VERSION:2.0
PRODID:-//hacksw/handcal//NONSGML v1.0//EN
CALSCALE:GREGORIAN
BEGIN:VEVENT
DTSTART:20260422T160000Z
DTEND:20260422T170000Z
UID:135237-opensimworld.com
DTSTAMP:20260422T111518Z
LOCATION:hg.osgrid.org:80:Event Plaza
URL;VALUE=URI: http://opensimworld.com/event/135237
SUMMARY:Wednesday Event Plaza Osgrid
END:VEVENT
END:VCALENDAR