BEGIN:VCALENDAR
VERSION:2.0
PRODID:-//hacksw/handcal//NONSGML v1.0//EN
CALSCALE:GREGORIAN
BEGIN:VEVENT
DTSTART:20260423T000000Z
DTEND:20260423T010000Z
UID:135233-opensimworld.com
DTSTAMP:20260423T020431Z
LOCATION:grid.opensimfest.com:8022:OSF_Welcome
URL;VALUE=URI: http://opensimworld.com/event/135233
SUMMARY:OSFest/IMA Open Meeting
END:VEVENT
END:VCALENDAR