BEGIN:VCALENDAR
VERSION:2.0
PRODID:-//hacksw/handcal//NONSGML v1.0//EN
CALSCALE:GREGORIAN
BEGIN:VEVENT
DTSTART:20260422T200000Z
DTEND:20260422T210000Z
UID:135232-opensimworld.com
DTSTAMP:20260423T041143Z
LOCATION:newlifeitaly.com:8002:PalmBeach
URL;VALUE=URI: http://opensimworld.com/event/135232
SUMMARY:PIANO BAR EVENINGS BY DJ TOMBEUR
END:VEVENT
END:VCALENDAR