BEGIN:VCALENDAR
VERSION:2.0
PRODID:-//hacksw/handcal//NONSGML v1.0//EN
CALSCALE:GREGORIAN
BEGIN:VEVENT
DTSTART:20260427T010000Z
DTEND:20260427T020000Z
UID:135231-opensimworld.com
DTSTAMP:20260425T232049Z
LOCATION:hg.trianon-world.com:18002:Trianon Complex
URL;VALUE=URI: http://opensimworld.com/event/135231
SUMMARY:Fetish Factor with DJ Esse continues
END:VEVENT
END:VCALENDAR