BEGIN:VCALENDAR
VERSION:2.0
PRODID:-//hacksw/handcal//NONSGML v1.0//EN
CALSCALE:GREGORIAN
BEGIN:VEVENT
DTSTART:20260424T220000Z
DTEND:20260424T230000Z
UID:135229-opensimworld.com
DTSTAMP:20260425T025526Z
LOCATION:hg.trianon-world.com:18002:Trianon Complex
URL;VALUE=URI: http://opensimworld.com/event/135229
SUMMARY:Woohoo! TGIF baby!
END:VEVENT
END:VCALENDAR