BEGIN:VCALENDAR
VERSION:2.0
PRODID:-//hacksw/handcal//NONSGML v1.0//EN
CALSCALE:GREGORIAN
BEGIN:VEVENT
DTSTART:20260423T200000Z
DTEND:20260423T210000Z
UID:135226-opensimworld.com
DTSTAMP:20260424T001940Z
LOCATION:hg.trianon-world.com:18002:Trianon Complex
URL;VALUE=URI: http://opensimworld.com/event/135226
SUMMARY:Love Songs and Ballads at 1pm with DJ Essensual
END:VEVENT
END:VCALENDAR