BEGIN:VCALENDAR
VERSION:2.0
PRODID:-//hacksw/handcal//NONSGML v1.0//EN
CALSCALE:GREGORIAN
BEGIN:VEVENT
DTSTART:20260421T180000Z
DTEND:20260421T190000Z
UID:135217-opensimworld.com
DTSTAMP:20260421T213300Z
LOCATION:alternatemetaverse.com:8002:Casaenias Estate
URL;VALUE=URI: http://opensimworld.com/event/135217
SUMMARY:CAS LIVE AT THE GARDEN 11AM GRID TIME AMV 4-21
END:VEVENT
END:VCALENDAR