BEGIN:VCALENDAR
VERSION:2.0
PRODID:-//hacksw/handcal//NONSGML v1.0//EN
CALSCALE:GREGORIAN
BEGIN:VEVENT
DTSTART:20260421T180000Z
DTEND:20260421T190000Z
UID:135216-opensimworld.com
DTSTAMP:20260422T042537Z
LOCATION:alternatemetaverse.com:8002:Casaenias Estate
URL;VALUE=URI: http://opensimworld.com/event/135216
SUMMARY:CAS LIVE AT THE GARDEN 11AM GRID TIME AMV 4-21 YOUR LIMO
END:VEVENT
END:VCALENDAR