BEGIN:VCALENDAR
VERSION:2.0
PRODID:-//hacksw/handcal//NONSGML v1.0//EN
CALSCALE:GREGORIAN
BEGIN:VEVENT
DTSTART:20260423T230000Z
DTEND:20260424T000000Z
UID:135204-opensimworld.com
DTSTAMP:20260424T025042Z
LOCATION:hg.twiztidtimezgrid.com:8602:Twiztid Timez Welcome Area
URL;VALUE=URI: http://opensimworld.com/event/135204
SUMMARY:Open-Mic 1/2 Still an Hour Left
END:VEVENT
END:VCALENDAR