BEGIN:VCALENDAR
VERSION:2.0
PRODID:-//hacksw/handcal//NONSGML v1.0//EN
CALSCALE:GREGORIAN
BEGIN:VEVENT
DTSTART:20260423T220000Z
DTEND:20260423T230000Z
UID:135203-opensimworld.com
DTSTAMP:20260424T025042Z
LOCATION:hg.twiztidtimezgrid.com:8602:Twiztid Timez Welcome Area
URL;VALUE=URI: http://opensimworld.com/event/135203
SUMMARY:Open-Mic Thursday\'s 3pm - 5pm GRID/PST
END:VEVENT
END:VCALENDAR