BEGIN:VCALENDAR
VERSION:2.0
PRODID:-//hacksw/handcal//NONSGML v1.0//EN
CALSCALE:GREGORIAN
BEGIN:VEVENT
DTSTART:20260421T170000Z
DTEND:20260421T180000Z
UID:135202-opensimworld.com
DTSTAMP:20260421T213300Z
LOCATION:alternatemetaverse.com:8002:Empire Of Art
URL;VALUE=URI: http://opensimworld.com/event/135202
SUMMARY: [ TORVEX LIVE ] Treasure Tuesday @ Empire of Art, The Core
END:VEVENT
END:VCALENDAR