BEGIN:VCALENDAR
VERSION:2.0
PRODID:-//hacksw/handcal//NONSGML v1.0//EN
CALSCALE:GREGORIAN
BEGIN:VEVENT
DTSTART:20260504T170000Z
DTEND:20260504T180000Z
UID:135201-opensimworld.com
DTSTAMP:20260421T211907Z
LOCATION:hg.holoneon.com:80:moushouverse
URL;VALUE=URI: http://opensimworld.com/event/135201
SUMMARY:May the 4th be with you
END:VEVENT
END:VCALENDAR