BEGIN:VCALENDAR
VERSION:2.0
PRODID:-//hacksw/handcal//NONSGML v1.0//EN
CALSCALE:GREGORIAN
BEGIN:VEVENT
DTSTART:20260422T190000Z
DTEND:20260422T200000Z
UID:135200-opensimworld.com
DTSTAMP:20260423T032230Z
LOCATION:soul-grid.de:8002:Wakawaka Land
URL;VALUE=URI: http://opensimworld.com/event/135200
SUMMARY:Strandmusik
END:VEVENT
END:VCALENDAR