BEGIN:VCALENDAR
VERSION:2.0
PRODID:-//hacksw/handcal//NONSGML v1.0//EN
CALSCALE:GREGORIAN
BEGIN:VEVENT
DTSTART:20260424T010000Z
DTEND:20260424T020000Z
UID:135196-opensimworld.com
DTSTAMP:20260424T120043Z
LOCATION:grid.wolfterritories.org:8002:Abraham Entertainment Venues
URL;VALUE=URI: http://opensimworld.com/event/135196
SUMMARY:Austin Moore and The Angels
END:VEVENT
END:VCALENDAR