BEGIN:VCALENDAR
VERSION:2.0
PRODID:-//hacksw/handcal//NONSGML v1.0//EN
CALSCALE:GREGORIAN
BEGIN:VEVENT
DTSTART:20260423T230000Z
DTEND:20260424T000000Z
UID:135194-opensimworld.com
DTSTAMP:20260424T025042Z
LOCATION:grid.wolfterritories.org:8002:Abraham Entertainment Venues
URL;VALUE=URI: http://opensimworld.com/event/135194
SUMMARY:Putri Solo
END:VEVENT
END:VCALENDAR