BEGIN:VCALENDAR
VERSION:2.0
PRODID:-//hacksw/handcal//NONSGML v1.0//EN
CALSCALE:GREGORIAN
BEGIN:VEVENT
DTSTART:20260423T220000Z
DTEND:20260423T230000Z
UID:135192-opensimworld.com
DTSTAMP:20260424T001940Z
LOCATION:grid.wolfterritories.org:8002:Abraham Entertainment Venues
URL;VALUE=URI: http://opensimworld.com/event/135192
SUMMARY:Charice
END:VEVENT
END:VCALENDAR