BEGIN:VCALENDAR
VERSION:2.0
PRODID:-//hacksw/handcal//NONSGML v1.0//EN
CALSCALE:GREGORIAN
BEGIN:VEVENT
DTSTART:20260423T210000Z
DTEND:20260423T220000Z
UID:135191-opensimworld.com
DTSTAMP:20260423T231518Z
LOCATION:grid.wolfterritories.org:8002:Abraham Entertainment Venues
URL;VALUE=URI: http://opensimworld.com/event/135191
SUMMARY:Lisbitt
END:VEVENT
END:VCALENDAR