BEGIN:VCALENDAR
VERSION:2.0
PRODID:-//hacksw/handcal//NONSGML v1.0//EN
CALSCALE:GREGORIAN
BEGIN:VEVENT
DTSTART:20260423T200000Z
DTEND:20260423T210000Z
UID:135190-opensimworld.com
DTSTAMP:20260424T054201Z
LOCATION:grid.wolfterritories.org:8002:Abraham Entertainment Venues
URL;VALUE=URI: http://opensimworld.com/event/135190
SUMMARY:Rogue Galaxy
END:VEVENT
END:VCALENDAR