BEGIN:VCALENDAR
VERSION:2.0
PRODID:-//hacksw/handcal//NONSGML v1.0//EN
CALSCALE:GREGORIAN
BEGIN:VEVENT
DTSTART:20260423T190000Z
DTEND:20260423T200000Z
UID:135189-opensimworld.com
DTSTAMP:20260423T183901Z
LOCATION:grid.wolfterritories.org:8002:Abraham Entertainment Venues
URL;VALUE=URI: http://opensimworld.com/event/135189
SUMMARY:MoonstarSparkle
END:VEVENT
END:VCALENDAR