BEGIN:VCALENDAR
VERSION:2.0
PRODID:-//hacksw/handcal//NONSGML v1.0//EN
CALSCALE:GREGORIAN
BEGIN:VEVENT
DTSTART:20260423T150000Z
DTEND:20260423T160000Z
UID:135187-opensimworld.com
DTSTAMP:20260422T013457Z
LOCATION:hg.osgrid.org:80:SHE SAID DESTROY (2)
URL;VALUE=URI: http://opensimworld.com/event/135187
SUMMARY:RIP - KAT KAKOOLA
END:VEVENT
END:VCALENDAR