BEGIN:VCALENDAR
VERSION:2.0
PRODID:-//hacksw/handcal//NONSGML v1.0//EN
CALSCALE:GREGORIAN
BEGIN:VEVENT
DTSTART:20260427T210000Z
DTEND:20260427T220000Z
UID:135184-opensimworld.com
DTSTAMP:20260421T110411Z
LOCATION:zodiack.net:8002:Laredo
URL;VALUE=URI: http://opensimworld.com/event/135184
SUMMARY:MrMikie String, Singing Live at Hooligans
END:VEVENT
END:VCALENDAR