BEGIN:VCALENDAR
VERSION:2.0
PRODID:-//hacksw/handcal//NONSGML v1.0//EN
CALSCALE:GREGORIAN
BEGIN:VEVENT
DTSTART:20260422T010000Z
DTEND:20260422T020000Z
UID:135181-opensimworld.com
DTSTAMP:20260422T000214Z
LOCATION:grid.wolfterritories.org:8002:Abraham Entertainment Venues
URL;VALUE=URI: http://opensimworld.com/event/135181
SUMMARY:Monay Amour
END:VEVENT
END:VCALENDAR