BEGIN:VCALENDAR
VERSION:2.0
PRODID:-//hacksw/handcal//NONSGML v1.0//EN
CALSCALE:GREGORIAN
BEGIN:VEVENT
DTSTART:20260421T230000Z
DTEND:20260422T000000Z
UID:135179-opensimworld.com
DTSTAMP:20260421T220035Z
LOCATION:grid.wolfterritories.org:8002:Abraham Entertainment Venues
URL;VALUE=URI: http://opensimworld.com/event/135179
SUMMARY:FajaMeta
END:VEVENT
END:VCALENDAR