BEGIN:VCALENDAR
VERSION:2.0
PRODID:-//hacksw/handcal//NONSGML v1.0//EN
CALSCALE:GREGORIAN
BEGIN:VEVENT
DTSTART:20260421T220000Z
DTEND:20260421T230000Z
UID:135178-opensimworld.com
DTSTAMP:20260421T074335Z
LOCATION:grid.wolfterritories.org:8002:Abraham Entertainment Venues
URL;VALUE=URI: http://opensimworld.com/event/135178
SUMMARY:Manu Rauber
END:VEVENT
END:VCALENDAR