BEGIN:VCALENDAR
VERSION:2.0
PRODID:-//hacksw/handcal//NONSGML v1.0//EN
CALSCALE:GREGORIAN
BEGIN:VEVENT
DTSTART:20260420T193000Z
DTEND:20260420T203000Z
UID:135176-opensimworld.com
DTSTAMP:20260421T101159Z
LOCATION:hg.osgrid.org:80:Tropicana Tuneage
URL;VALUE=URI: http://opensimworld.com/event/135176
SUMMARY:DJ Troy Is Still Rockin
END:VEVENT
END:VCALENDAR