BEGIN:VCALENDAR
VERSION:2.0
PRODID:-//hacksw/handcal//NONSGML v1.0//EN
CALSCALE:GREGORIAN
BEGIN:VEVENT
DTSTART:20260420T230000Z
DTEND:20260421T000000Z
UID:135175-opensimworld.com
DTSTAMP:20260421T014153Z
LOCATION:gentlefire.opensim.fun:8002:Dinkie Village
URL;VALUE=URI: http://opensimworld.com/event/135175
SUMMARY:Wosy and cuddle
END:VEVENT
END:VCALENDAR