BEGIN:VCALENDAR
VERSION:2.0
PRODID:-//hacksw/handcal//NONSGML v1.0//EN
CALSCALE:GREGORIAN
BEGIN:VEVENT
DTSTART:20260420T210000Z
DTEND:20260420T220000Z
UID:135174-opensimworld.com
DTSTAMP:20260421T041340Z
LOCATION:gentlefire.opensim.fun:8002:Gentle Fire Grid
URL;VALUE=URI: http://opensimworld.com/event/135174
SUMMARY:KHIRON AMETZA CLUB FIRE
END:VEVENT
END:VCALENDAR