BEGIN:VCALENDAR
VERSION:2.0
PRODID:-//hacksw/handcal//NONSGML v1.0//EN
CALSCALE:GREGORIAN
BEGIN:VEVENT
DTSTART:20260420T190000Z
DTEND:20260420T200000Z
UID:135173-opensimworld.com
DTSTAMP:20260421T012842Z
LOCATION:gentlefire.opensim.fun:8002:Gentle Fire Grid
URL;VALUE=URI: http://opensimworld.com/event/135173
SUMMARY:Dj Jon temple
END:VEVENT
END:VCALENDAR