BEGIN:VCALENDAR
VERSION:2.0
PRODID:-//hacksw/handcal//NONSGML v1.0//EN
CALSCALE:GREGORIAN
BEGIN:VEVENT
DTSTART:20260421T010000Z
DTEND:20260421T020000Z
UID:135172-opensimworld.com
DTSTAMP:20260421T012842Z
LOCATION:login.kamilianradio.com:8002:The Meepz
URL;VALUE=URI: http://opensimworld.com/event/135172
SUMMARY:Best In Waldo Wins T$9,000.
END:VEVENT
END:VCALENDAR