BEGIN:VCALENDAR
VERSION:2.0
PRODID:-//hacksw/handcal//NONSGML v1.0//EN
CALSCALE:GREGORIAN
BEGIN:VEVENT
DTSTART:20260420T190000Z
DTEND:20260420T200000Z
UID:135171-opensimworld.com
DTSTAMP:20260421T012842Z
LOCATION:alternatemetaverse.com:8002:Bare Lilies 3
URL;VALUE=URI: http://opensimworld.com/event/135171
SUMMARY:DJ SOFEE @ THE BEACH PARTY 12:00 
END:VEVENT
END:VCALENDAR