BEGIN:VCALENDAR
VERSION:2.0
PRODID:-//hacksw/handcal//NONSGML v1.0//EN
CALSCALE:GREGORIAN
BEGIN:VEVENT
DTSTART:20260420T190000Z
DTEND:20260420T200000Z
UID:135169-opensimworld.com
DTSTAMP:20260421T041340Z
LOCATION:gentlefire.opensim.fun:8002:London City
URL;VALUE=URI: http://opensimworld.com/event/135169
SUMMARY:Chill Out Monday at Myyst
END:VEVENT
END:VCALENDAR