BEGIN:VCALENDAR
VERSION:2.0
PRODID:-//hacksw/handcal//NONSGML v1.0//EN
CALSCALE:GREGORIAN
BEGIN:VEVENT
DTSTART:20260425T150000Z
DTEND:20260425T160000Z
UID:135168-opensimworld.com
DTSTAMP:20260420T125940Z
LOCATION:hg.neverworldgrid.com:8002:ARV Music Club
URL;VALUE=URI: http://opensimworld.com/event/135168
SUMMARY:ARVI LIVE ♪ Fantasy Experience ♪
END:VEVENT
END:VCALENDAR